BEGIN:VCALENDAR
VERSION:2.0
PRODID:-//La Trobe Events//NONSGML v1.0//EN
BEGIN:VEVENT
UID:1719956@latrobe.edu.au
DTSTART;TZID="/Australia/Melbourne":20251126T113000
DTEND;TZID="/Australia/Melbourne":20251126T130000
SUMMARY:Finding and Telling your Research Story
DESCRIPTION:A practical session full of ideas for storying your research.
X-ALT-DESC;FMTTYPE=text/html:<!doctype html><html><body>
    <p><strong>A practical session full of ideas for storying your research.</strong></p>
        <p><strong><a href="https://www.eventbrite.com.au/e/1741044814909?aff=oddtdtcreator" style="color: #fff;background: #e2231b;border-radius: 5px;padding:5px 10px;display:inline-block;text-decoration:none;font-size:24px;">
        &nbsp;Register&nbsp;
    </a></strong></p>
        <p>Framing your research as a story provides a novel way to communicate its significance to others. Experimenting with narrative strategies can open novel ways of enhancing your writing.</p></body></html>
    
LOCATION:online

CATEGORIES:Research Education and Development Workshop and Seminar Program,Seminar/Workshop/Training,Researcher/Graduate researcher
END:VEVENT
END:VCALENDAR
