BEGIN:VCALENDAR
VERSION:2.0
PRODID:-//La Trobe Events//NONSGML v1.0//EN
BEGIN:VEVENT
UID:1686555@latrobe.edu.au
DTSTART;TZID="/Australia/Melbourne":20250930T100000
DTEND;TZID="/Australia/Melbourne":20250930T120000
SUMMARY:Finding your Voice in Research Writing
DESCRIPTION:What is voice in academic writing, and how do I find my own?
X-ALT-DESC;FMTTYPE=text/html:<!doctype html><html><body>
    <p><strong>What is voice in academic writing, and how do I find my own?</strong></p>
        <p><strong><a href="https://www.eventbrite.com.au/e/finding-your-voice-in-academic-writing-tickets-1149771851559?aff=oddtdtcreator" style="color: #fff;background: #e2231b;border-radius: 5px;padding:5px 10px;display:inline-block;text-decoration:none;font-size:24px;">
        &nbsp;Register&nbsp;
    </a></strong></p>
        </body></html>
    
LOCATION:online

CATEGORIES:Research Education and Development Workshop and Seminar Program,Seminar/Workshop/Training,Researcher/Graduate researcher
END:VEVENT
END:VCALENDAR
