BEGIN:VCALENDAR
VERSION:2.0
PRODID:-//La Trobe Events//NONSGML v1.0//EN
BEGIN:VEVENT
UID:1686575@latrobe.edu.au
DTSTART;TZID="/Australia/Melbourne":20251023T100000
DTEND;TZID="/Australia/Melbourne":20251023T114500
SUMMARY:Formatting in Microsoft Word for Researchers
DESCRIPTION:Learn the tips and tricks on how to use Microsoft Word to format your long documents.
X-ALT-DESC;FMTTYPE=text/html:<!doctype html><html><body>
    <p><strong>Learn the tips and tricks on how to use Microsoft Word to format your long documents.</strong></p>
        <p><strong><a href="https://www.eventbrite.com.au/e/formatting-in-microsoft-word-for-researchers-tickets-110908556478?aff=oddtdtcreator" style="color: #fff;background: #e2231b;border-radius: 5px;padding:5px 10px;display:inline-block;text-decoration:none;font-size:24px;">
        &nbsp;Register&nbsp;
    </a></strong></p>
        </body></html>
    
LOCATION:online

CATEGORIES:Research Education and Development Workshop and Seminar Program,Seminar/Workshop/Training,Researcher/Graduate researcher
END:VEVENT
END:VCALENDAR
