BEGIN:VCALENDAR
VERSION:2.0
PRODID:-//La Trobe Events//NONSGML v1.0//EN
BEGIN:VEVENT
UID:1686568@latrobe.edu.au
DTSTART;TZID="/Australia/Melbourne":20251013T130000
DTEND;TZID="/Australia/Melbourne":20251013T143000
SUMMARY:Graduate Researcher Information Skills (GRIS) Part 2
DESCRIPTION:This session introduces Library systems and skills to help you find and manage information and literature during your research degree.
X-ALT-DESC;FMTTYPE=text/html:<!doctype html><html><body>
    <p><strong>This session introduces Library systems and skills to help you find and manage information and literature during your research degree.</strong></p>
        <p><strong><a href="https://www.eventbrite.com.au/e/graduate-researcher-information-skills-gris-part-2-tickets-110578938582?aff=oddtdtcreator" style="color: #fff;background: #e2231b;border-radius: 5px;padding:5px 10px;display:inline-block;text-decoration:none;font-size:24px;">
        &nbsp;Register&nbsp;
    </a></strong></p>
        </body></html>
    
LOCATION:online

CATEGORIES:Research Education and Development Workshop and Seminar Program,Seminar/Workshop/Training,Researcher/Graduate researcher
END:VEVENT
END:VCALENDAR
