BEGIN:VCALENDAR
VERSION:2.0
PRODID:-//La Trobe Events//NONSGML v1.0//EN
BEGIN:VEVENT
UID:1686558@latrobe.edu.au
DTSTART;TZID="/Australia/Melbourne":20251006T130000
DTEND;TZID="/Australia/Melbourne":20251006T143000
SUMMARY:Graduate Researcher Information Skills (GRIS) Part 1
DESCRIPTION:Get all the information literacy and information management skills you need to complete a successful research degree.
X-ALT-DESC;FMTTYPE=text/html:<!doctype html><html><body>
    <p><strong>Get all the information literacy and information management skills you need to complete a successful research degree.</strong></p>
        <p><strong><a href="https://www.eventbrite.com.au/e/graduate-researcher-information-skills-gris-part-1-tickets-110578021840?aff=oddtdtcreator" style="color: #fff;background: #e2231b;border-radius: 5px;padding:5px 10px;display:inline-block;text-decoration:none;font-size:24px;">
        &nbsp;Register&nbsp;
    </a></strong></p>
        </body></html>
    
LOCATION:online

CATEGORIES:Research Education and Development Workshop and Seminar Program,Seminar/Workshop/Training,Researcher/Graduate researcher
END:VEVENT
END:VCALENDAR
