BEGIN:VCALENDAR
VERSION:2.0
PRODID:-//La Trobe Events//NONSGML v1.0//EN
BEGIN:VEVENT
UID:1749105@latrobe.edu.au
DTSTART;TZID="/Australia/Melbourne":20260209T110000
DTEND;TZID="/Australia/Melbourne":20260209T120000
SUMMARY:Improve your Library Search Skills
DESCRIPTION:Boost your study success by exploring strategies to find the right resources for your assessments and developing your search skills in Library Collections Search.
X-ALT-DESC;FMTTYPE=text/html:<!doctype html><html><body>
    <p><strong>Boost your study success by exploring strategies to find the right resources for your assessments and developing your search skills in Library Collections Search.</strong></p>
        <p><strong><a href="https://employabilityhub.latrobe.edu.au/s/learning-hub/events/detail/1235229" style="color: #fff;background: #e2231b;border-radius: 5px;padding:5px 10px;display:inline-block;text-decoration:none;font-size:24px;">
        &nbsp;Register&nbsp;
    </a></strong></p>
        <p>In this workshop, you will learn:</p><ul><li>how to get great search results</li><li>how to evaluate different types of resources</li><li>how to analyse your topic</li><li>search techniques for Library Search</li></ul><p>A video of this workshop is&nbsp;available in the LMS -&nbsp;<a href="https://lms.latrobe.edu.au/mod/page/view.php?id=7600471">Library: Improve your library search skills* | My LMS subjects.</a></p></body></html>
    
LOCATION:Online

CATEGORIES:Summer Study and Library Skills,Seminar/Workshop/Training,Current student: Undergraduate
END:VEVENT
END:VCALENDAR
