BEGIN:VCALENDAR
VERSION:2.0
PRODID:-//La Trobe Events//NONSGML v1.0//EN
BEGIN:VEVENT
UID:1749146@latrobe.edu.au
DTSTART;TZID="/Australia/Melbourne":20260219T110000
DTEND;TZID="/Australia/Melbourne":20260219T114500
SUMMARY:International students: Build your vocabulary
DESCRIPTION:Strategies to quickly expand your English vocabulary for your studies.
X-ALT-DESC;FMTTYPE=text/html:<!doctype html><html><body>
    <p><strong>Strategies to quickly expand your English vocabulary for your studies.</strong></p>
        <p><strong><a href="https://employabilityhub.latrobe.edu.au/s/learning-hub/events/detail/1235276" style="color: #fff;background: #e2231b;border-radius: 5px;padding:5px 10px;display:inline-block;text-decoration:none;font-size:24px;">
        &nbsp;Register&nbsp;
    </a></strong></p>
        <p>In this workshop you will :</p><ul><li>Learn about tools and techniques to improve your vocabulary</li><li>Develop your comprehension of English</li><li>Learn where to get support for your studies</li></ul><p><em>This is a live online workshop and is&nbsp;<strong>not recorded</strong>. Registered attendees will receive the slides after the workshop.</em></p></body></html>
    
LOCATION:Online

CATEGORIES:Summer Study and Library Skills,Seminar/Workshop/Training,Current student: International
END:VEVENT
END:VCALENDAR
