BEGIN:VCALENDAR
VERSION:2.0
PRODID:-//La Trobe Events//NONSGML v1.0//EN
BEGIN:VEVENT
UID:1717570@latrobe.edu.au
DTSTART;TZID="/Australia/Melbourne":20251007T140000
DTEND;TZID="/Australia/Melbourne":20251007T150000
SUMMARY:Keep to the Word Count
DESCRIPTION:Do you struggle to stay within the word count? And get comments on your assignments like ‘wordy’, ‘irrelevant’ or ‘you need to get to the point’?
X-ALT-DESC;FMTTYPE=text/html:<!doctype html><html><body>
    <p><strong>Do you struggle to stay within the word count? And get comments on your assignments like ‘wordy’, ‘irrelevant’ or ‘you need to get to the point’?</strong></p>
        <p><strong><a href="https://employabilityhub.latrobe.edu.au/s/learning-hub/events/detail/1222993" style="color: #fff;background: #e2231b;border-radius: 5px;padding:5px 10px;display:inline-block;text-decoration:none;font-size:24px;">
        &nbsp;Register&nbsp;
    </a></strong></p>
        <p>In this workshop, you&rsquo;ll learn how to:</p><ul><li>plan your assignment to meet the word count</li><li>identify and remove irrelevant or repetitive content</li><li>reduce wordy paragraphs and phrases</li><li>write more concisely</li></ul><p><em>This is a live online workshop and is&nbsp;<strong>not recorded.</strong> Registered attendees will receive the slides after the workshop.</em></p></body></html>
    
LOCATION:Online

CATEGORIES:Spotlights on Success,Seminar/Workshop/Training,Current student: Undergraduate,Current student: Postgraduate
END:VEVENT
END:VCALENDAR
