BEGIN:VCALENDAR
VERSION:2.0
PRODID:-//La Trobe Events//NONSGML v1.0//EN
BEGIN:VEVENT
UID:1756855@latrobe.edu.au
DTSTART;TZID="/Australia/Melbourne":20260429T123000
DTEND;TZID="/Australia/Melbourne":20260429T133000
SUMMARY:Library Research - Drop-in Session
DESCRIPTION:Library Research Drop-ins offer a flexible and informal way for Researchers and Graduate Researchers to connect with Research Librarians and receive support when you need it most.
X-ALT-DESC;FMTTYPE=text/html:<!doctype html><html><body>
    <p><strong>Library Research Drop-ins offer a flexible and informal way for Researchers and Graduate Researchers to connect with Research Librarians and receive support when you need it most.</strong></p>
        <p><strong><a href="https://latrobe.zoom.us/j/82758898427" style="color: #fff;background: #e2231b;border-radius: 5px;padding:5px 10px;display:inline-block;text-decoration:none;font-size:24px;">
        &nbsp;Join session&nbsp;
    </a></strong></p>
        <h2>Event details</h2><p><strong>Online library research support. No appointment needed.</strong></p><p><strong>We can help you with:</strong></p><ul><li>general guidance on navigating library databases, tools and services</li><li>questions about metrics, referencing or open access</li><li>navigating research-related resources</li><li>connecting with the right person for more complex queries</li></ul><p><strong>Who can attend:</strong></p><p style="margin-top:.5em;">These sessions are open to all La Trobe researchers and graduate researchers.</p><p><strong>What to expect:</strong></p><ul><li>We&rsquo;ll assist on a first-come, first-served basis.</li><li>You&rsquo;re welcome to drop in and out of the session at any time.</li><li>If your question is complex or requires follow-up, we may not be able to resolve it during the session, but we&rsquo;ll make sure the right person gets in touch with you afterwards.</li><li>If needed, we may use breakout rooms for one-on-one conversations.</li></ul><p><strong>How to join:</strong></p><p style="margin-top:.5em;">Select 'Join session'&nbsp;<strong>during the drop-in session</strong> to join via Zoom. (See <a href="https://latr-dev.matrix.squiz.cloud/students/support/it/study-tools/zoom" target="_blank">Getting started with Zoom</a>.)</p></body></html>
    
LOCATION:Online

CATEGORIES:Library Research Drop-ins,Information session,Researcher/Graduate researcher
END:VEVENT
END:VCALENDAR
