BEGIN:VCALENDAR
VERSION:2.0
PRODID:-//La Trobe Events//NONSGML v1.0//EN
BEGIN:VEVENT
UID:1728067@latrobe.edu.au
DTSTART;TZID="/Australia/Melbourne":20251121T150000
DTEND;TZID="/Australia/Melbourne":20251121T163000
SUMMARY:Manage your References with EndNote
DESCRIPTION:Maximise your potential at Assessment Bootcamp with useful tips and strategies for assessment success. Learn how to use EndNote for reference management.
X-ALT-DESC;FMTTYPE=text/html:<!doctype html><html><body>
    <p><strong>Maximise your potential at Assessment Bootcamp with useful tips and strategies for assessment success. Learn how to use EndNote for reference management.</strong></p>
        <p><strong><a href="https://employabilityhub.latrobe.edu.au/s/learning-hub/events/detail/1228537" style="color: #fff;background: #e2231b;border-radius: 5px;padding:5px 10px;display:inline-block;text-decoration:none;font-size:24px;">
        &nbsp;Register&nbsp;
    </a></strong></p>
        <p>In this workshop, you will learn how to:</p><ul><li>create a new desktop EndNote library</li><li>populate your library with references</li><li>attach PDFs to references</li><li>use EndNote's Cite-While-You-Write feature to create in-text citations, edit citations, generate a reference list and change output styles</li><li>create groups, smart groups and group sets</li><li>format a bibliography/reference list</li><li>save and back up an EndNote library</li></ul><p><strong>Please note: you should have a good understanding of referencing before attending this workshop.</strong></p><p><strong>Before the session</strong></p><ul><li><strong>Download and Install EndNote21 from<u> </u><a href="https://latrobe.onthehub.com/WebStore/OfferingDetails.aspx?o=f74782fc-dcff-ed11-8156-000d3af41938">Latrobe On the Hub</a></strong></li><li><strong>Download the guide for your device (guides attached below)</strong></li></ul><p>A video of this workshop is available in the LMS -&nbsp;<a href="https://lms.latrobe.edu.au/mod/page/view.php?id=8289574" target="_blank">Library: Manage your references with EndNote* | My LMS subjects</a></p></body></html>
    
LOCATION:Online

CATEGORIES:Summer Study and Library Skills,Seminar/Workshop/Training,Current student: Postgraduate
END:VEVENT
END:VCALENDAR
