BEGIN:VCALENDAR
VERSION:2.0
PRODID:-//La Trobe Events//NONSGML v1.0//EN
BEGIN:VEVENT
UID:1686573@latrobe.edu.au
DTSTART;TZID="/Australia/Melbourne":20251021T100000
DTEND;TZID="/Australia/Melbourne":20251021T120000
SUMMARY:On Being Ruthless: Strategies and Tips for Editing your Thesis
DESCRIPTION:This workshop will offer practical strategies and advice to improve your editing skills.
X-ALT-DESC;FMTTYPE=text/html:<!doctype html><html><body>
    <p><strong>This workshop will offer practical strategies and advice to improve your editing skills.</strong></p>
        <p><strong><a href="https://www.eventbrite.com.au/e/on-being-ruthless-strategies-and-tips-for-editing-your-thesis-tickets-1149678763129?aff=oddtdtcreator" style="color: #fff;background: #e2231b;border-radius: 5px;padding:5px 10px;display:inline-block;text-decoration:none;font-size:24px;">
        &nbsp;Register&nbsp;
    </a></strong></p>
        </body></html>
    
LOCATION:online

CATEGORIES:Research Education and Development Workshop and Seminar Program,Seminar/Workshop/Training,Researcher/Graduate researcher
END:VEVENT
END:VCALENDAR
