BEGIN:VCALENDAR
VERSION:2.0
PRODID:-//La Trobe Events//NONSGML v1.0//EN
BEGIN:VEVENT
UID:1686569@latrobe.edu.au
DTSTART;TZID="/Australia/Melbourne":20251014T130000
DTEND;TZID="/Australia/Melbourne":20251014T140000
SUMMARY:Open Access @ La Trobe
DESCRIPTION:Learn about the benefits of Open Access Publishing and the options available through La Trobe to make your work freely available.
X-ALT-DESC;FMTTYPE=text/html:<!doctype html><html><body>
    <p><strong>Learn about the benefits of Open Access Publishing and the options available through La Trobe to make your work freely available.</strong></p>
        <p><strong><a href="https://www.eventbrite.com.au/e/open-access-la-trobe-tickets-699938905107" style="color: #fff;background: #e2231b;border-radius: 5px;padding:5px 10px;display:inline-block;text-decoration:none;font-size:24px;">
        &nbsp;Register&nbsp;
    </a></strong></p>
        </body></html>
    
LOCATION:online

CATEGORIES:Research Education and Development Workshop and Seminar Program,Seminar/Workshop/Training,Researcher/Graduate researcher
END:VEVENT
END:VCALENDAR
