BEGIN:VCALENDAR
VERSION:2.0
PRODID:-//La Trobe Events//NONSGML v1.0//EN
BEGIN:VEVENT
UID:1686570@latrobe.edu.au
DTSTART;TZID="/Australia/Melbourne":20251014T100000
DTEND;TZID="/Australia/Melbourne":20251014T120000
SUMMARY:Punctuation for Clarity, Precision and Style
DESCRIPTION:A workshop designed to help you improve your punctuation to enhance the precision, clarity and stylistic qualities of your writing.
X-ALT-DESC;FMTTYPE=text/html:<!doctype html><html><body>
    <p><strong>A workshop designed to help you improve your punctuation to enhance the precision, clarity and stylistic qualities of your writing.</strong></p>
        <p><strong><a href="https://www.eventbrite.com.au/e/punctuation-for-precision-clarity-and-style-tickets-1149808731869?aff=oddtdtcreator" style="color: #fff;background: #e2231b;border-radius: 5px;padding:5px 10px;display:inline-block;text-decoration:none;font-size:24px;">
        &nbsp;Register&nbsp;
    </a></strong></p>
        </body></html>
    
LOCATION:online

CATEGORIES:Research Education and Development Workshop and Seminar Program,Seminar/Workshop/Training,Researcher/Graduate researcher
END:VEVENT
END:VCALENDAR
