BEGIN:VCALENDAR
VERSION:2.0
PRODID:-//La Trobe Events//NONSGML v1.0//EN
BEGIN:VEVENT
UID:1686557@latrobe.edu.au
DTSTART;TZID="/Australia/Melbourne":20251001T110000
DTEND;TZID="/Australia/Melbourne":20251001T120000
SUMMARY:Research Data Management @ La Trobe
DESCRIPTION:Understand the principles of research data management and your obligations at La Trobe University.
X-ALT-DESC;FMTTYPE=text/html:<!doctype html><html><body>
    <p><strong>Understand the principles of research data management and your obligations at La Trobe University.</strong></p>
        <p><strong><a href="https://www.eventbrite.com.au/e/research-data-management-la-trobe-tickets-110738961214?aff=oddtdtcreator" style="color: #fff;background: #e2231b;border-radius: 5px;padding:5px 10px;display:inline-block;text-decoration:none;font-size:24px;">
        &nbsp;Register&nbsp;
    </a></strong></p>
        </body></html>
    
LOCATION:online

CATEGORIES:Research Education and Development Workshop and Seminar Program,Seminar/Workshop/Training,Researcher/Graduate researcher,La Trobe University staff
END:VEVENT
END:VCALENDAR
