BEGIN:VCALENDAR
VERSION:2.0
PRODID:-//La Trobe Events//NONSGML v1.0//EN
BEGIN:VEVENT
UID:1659752@latrobe.edu.au
DTSTART;TZID="/Australia/Melbourne":20250618T110000
DTEND;TZID="/Australia/Melbourne":20250618T120000
SUMMARY:Visualise your Thesis (VYT) Visual design and copyright
DESCRIPTION:A technical workshop to explore audio and visual design elements and your copyright responsibilities.
X-ALT-DESC;FMTTYPE=text/html:<!doctype html><html><body>
    <p><strong>A technical workshop to explore audio and visual design elements and your copyright responsibilities.</strong></p>
        <p><strong><a href="https://www.eventbrite.com.au/e/visualise-your-thesis-vyt-visual-design-and-copyright-workshop-tickets-1296340171349?aff=oddtdtcreator" style="color: #fff;background: #e2231b;border-radius: 5px;padding:5px 10px;display:inline-block;text-decoration:none;font-size:24px;">
        &nbsp;Register&nbsp;
    </a></strong></p>
        <p>Visualise Your Thesis (VYT) challenges graduate researchers at any stage of their candidature to present their projects in a 60-second, eye-catching video. Using a pre-supplied template, you are tasked with developing a striking video presentation that succinctly describes your research, and its potential benefits, to a non-specialist audience.</p><p style="padding: 10px 0px 0px">Come along to this workshop to learn about the audio and visual design features that will maximise your impact. We will also cover your copyright responsibilities.</p></body></html>
    
LOCATION:online

CATEGORIES:Visualise Your Thesis,Seminar/Workshop/Training,Researcher/Graduate researcher
END:VEVENT
END:VCALENDAR
