BEGIN:VCALENDAR
VERSION:2.0
PRODID:-//La Trobe Events//NONSGML v1.0//EN
BEGIN:VEVENT
UID:1746042@latrobe.edu.au
DTSTART;TZID="/Australia/Melbourne":20260120T110000
DTEND;TZID="/Australia/Melbourne":20260120T120000
SUMMARY:Study Essentials for Postgraduate Students
DESCRIPTION:This session briefly reviews the language and critical skills needed for postgraduate study and introduces resources to help with academic writing. It is intended for postgraduate coursework students returning to study.
X-ALT-DESC;FMTTYPE=text/html:<!doctype html><html><body>
    <p><strong>This session briefly reviews the language and critical skills needed for postgraduate study and introduces resources to help with academic writing. It is intended for postgraduate coursework students returning to study.</strong></p>
        <p><strong><a href="https://employabilityhub.latrobe.edu.au/s/learning-hub/events/detail/1235219" style="color: #fff;background: #e2231b;border-radius: 5px;padding:5px 10px;display:inline-block;text-decoration:none;font-size:24px;">
        &nbsp;Register&nbsp;
    </a></strong></p>
        <p>In this workshop, you will learn:</p><ul><li>graduate writing expectations; genre, tone and other conventions</li><li>the importance of research and reading for effective writing</li><li>tips for effective writing at the postgraduate level</li><li>where to get further help</li></ul><p>A video of this workshop is&nbsp;available in the LMS -&nbsp;<a href="https://lms.latrobe.edu.au/mod/page/view.php?id=7600510"><strong>Pathfinder: Getting started with postgraduate study | My LMS subjects (latrobe.edu.au).</strong></a></p></body></html>
    
LOCATION:Online

CATEGORIES:Summer Study and Library Skills,Seminar/Workshop/Training,Current student: Postgraduate
END:VEVENT
END:VCALENDAR
