BEGIN:VCALENDAR
VERSION:2.0
PRODID:-//La Trobe Events//NONSGML v1.0//EN
BEGIN:VEVENT
UID:1686576@latrobe.edu.au
DTSTART;TZID="/Australia/Melbourne":20251106T110000
DTEND;TZID="/Australia/Melbourne":20251106T130000
SUMMARY:Systematic Searching for Systematic Reviews
DESCRIPTION:This hands-on session is designed for health researchers wanting to learn how to search the literature for a systematic review.
X-ALT-DESC;FMTTYPE=text/html:<!doctype html><html><body>
    <p><strong>This hands-on session is designed for health researchers wanting to learn how to search the literature for a systematic review.</strong></p>
        <p><strong><a href="https://www.eventbrite.com.au/e/systematic-searching-for-systematic-reviews-tickets-111579924558?aff=oddtdtcreator" style="color: #fff;background: #e2231b;border-radius: 5px;padding:5px 10px;display:inline-block;text-decoration:none;font-size:24px;">
        &nbsp;Register&nbsp;
    </a></strong></p>
        </body></html>
    
LOCATION:online

CATEGORIES:Research Education and Development Workshop and Seminar Program,Seminar/Workshop/Training,Researcher/Graduate researcher
END:VEVENT
END:VCALENDAR
