BEGIN:VCALENDAR
VERSION:2.0
PRODID:-//La Trobe Events//NONSGML v1.0//EN
BEGIN:VEVENT
UID:1719950@latrobe.edu.au
DTSTART;TZID="/Australia/Melbourne":20251125T100000
DTEND;TZID="/Australia/Melbourne":
SUMMARY:Trying Tiny Texts: Getting started on your next journal article
DESCRIPTION:Thinking about writing your next article? Try a tiny text!
X-ALT-DESC;FMTTYPE=text/html:<!doctype html><html><body>
    <p><strong>Thinking about writing your next article? Try a tiny text!</strong></p>
        <p><strong><a href="https://www.eventbrite.com.au/e/1740994464309?aff=oddtdtcreator" style="color: #fff;background: #e2231b;border-radius: 5px;padding:5px 10px;display:inline-block;text-decoration:none;font-size:24px;">
        &nbsp;Register&nbsp;
    </a></strong></p>
        <p>This short workshop will introduce you to tiny texts and how they can help you kickstart your next article. A practical session offering useful strategies to help plan your writing project.</p></body></html>
    
LOCATION:Online

CATEGORIES:Research Education and Development Workshop and Seminar Program,Seminar/Workshop/Training,Researcher/Graduate researcher
END:VEVENT
END:VCALENDAR
