BEGIN:VCALENDAR
VERSION:2.0
PRODID:-//La Trobe Events//NONSGML v1.0//EN
BEGIN:VEVENT
UID:1719951@latrobe.edu.au
DTSTART;TZID="/Australia/Melbourne":20251125T120000
DTEND;TZID="/Australia/Melbourne":20251125T130000
SUMMARY:Write Reader
DESCRIPTION:A short, practical session that focuses on writing for different readers.
X-ALT-DESC;FMTTYPE=text/html:<!doctype html><html><body>
    <p><strong>A short, practical session that focuses on writing for different readers.</strong></p>
        <p><strong><a href="https://www.eventbrite.com.au/e/1741029689669?aff=oddtdtcreator" style="color: #fff;background: #e2231b;border-radius: 5px;padding:5px 10px;display:inline-block;text-decoration:none;font-size:24px;">
        &nbsp;Register&nbsp;
    </a></strong></p>
        <p>Thinking about the readership for your research shapes how you communicate it to others. Writing for different readers helps clarify your ideas and introduces greater variety and flexibility to your writing.</p></body></html>
    
LOCATION:online

CATEGORIES:Research Education and Development Workshop and Seminar Program,Seminar/Workshop/Training,Researcher/Graduate researcher
END:VEVENT
END:VCALENDAR
