BEGIN:VCALENDAR
VERSION:2.0
PRODID:-//La Trobe Events//NONSGML v1.0//EN
BEGIN:VEVENT
UID:1686566@latrobe.edu.au
DTSTART;TZID="/Australia/Melbourne":20251007T100000
DTEND;TZID="/Australia/Melbourne":20251007T113000
SUMMARY:Writing Thesis Introductions and Conclusions
DESCRIPTION:This workshop will look at the key features and purposes of the Introduction and Conclusion of the PhD and offer practical strategies.
X-ALT-DESC;FMTTYPE=text/html:<!doctype html><html><body>
    <p><strong>This workshop will look at the key features and purposes of the Introduction and Conclusion of the PhD and offer practical strategies.</strong></p>
        <p><strong><a href="https://www.eventbrite.com.au/e/writing-thesis-introductions-and-conclusions-tickets-1159860456849?aff=oddtdtcreator" style="color: #fff;background: #e2231b;border-radius: 5px;padding:5px 10px;display:inline-block;text-decoration:none;font-size:24px;">
        &nbsp;Register&nbsp;
    </a></strong></p>
        </body></html>
    
LOCATION:online

CATEGORIES:Research Education and Development Workshop and Seminar Program,Seminar/Workshop/Training,Researcher/Graduate researcher
END:VEVENT
END:VCALENDAR
